{
 "currentVersion": 10.51,
 "serviceDescription": " Il Piano di governo del territorio individua i perimetri degli insediamenti e dei nuclei urbani che rivestono carattere storico, artistico o di particolare pregio ambientale, comprese le aree circostanti che possono considerarsi parte integrante dei medesimi.<\/SPAN>La tavola disciplina le azioni e gli interventi ammissibili secondo le indicazioni programmatiche del Piano delle Regole nei peculiari ambiti dei nuclei storici<\/SPAN>.<\/SPAN><\/P><\/DIV><\/DIV><\/DIV>",
 "mapName": "Disciplina dei nuclei di antica formazione",
 "description": "",
 "copyrightText": "",
 "supportsDynamicLayers": false,
 "layers": [
  {
   "id": 0,
   "name": "_#Confine comunale",
   "parentLayerId": -1,
   "defaultVisibility": true,
   "subLayerIds": null,
   "minScale": 10000010,
   "maxScale": 25011
  },
  {
   "id": 1,
   "name": "_Confine comunale",
   "parentLayerId": -1,
   "defaultVisibility": true,
   "subLayerIds": null,
   "minScale": 25010,
   "maxScale": 0
  },
  {
   "id": 2,
   "name": "Perimetro dei nuclei di antica formazione",
   "parentLayerId": -1,
   "defaultVisibility": true,
   "subLayerIds": null,
   "minScale": 100010,
   "maxScale": 0
  },
  {
   "id": 3,
   "name": "Confine Parco dei Colli",
   "parentLayerId": -1,
   "defaultVisibility": true,
   "subLayerIds": null,
   "minScale": 100010,
   "maxScale": 0
  },
  {
   "id": 4,
   "name": "_Beni culturali",
   "parentLayerId": -1,
   "defaultVisibility": true,
   "subLayerIds": null,
   "minScale": 25010,
   "maxScale": 0
  },
  {
   "id": 5,
   "name": "#Beni culturali",
   "parentLayerId": -1,
   "defaultVisibility": true,
   "subLayerIds": null,
   "minScale": 25010,
   "maxScale": 0
  },
  {
   "id": 6,
   "name": "_#Edifici aerofotogrammetrico",
   "parentLayerId": -1,
   "defaultVisibility": true,
   "subLayerIds": null,
   "minScale": 25010,
   "maxScale": 0
  },
  {
   "id": 7,
   "name": "_#Linee aerofotogrammetrico",
   "parentLayerId": -1,
   "defaultVisibility": true,
   "subLayerIds": null,
   "minScale": 25010,
   "maxScale": 0
  },
  {
   "id": 8,
   "name": "Grado di intervento per gli edifici",
   "parentLayerId": -1,
   "defaultVisibility": true,
   "subLayerIds": null,
   "minScale": 25010,
   "maxScale": 0
  },
  {
   "id": 9,
   "name": "Grado di intervento per gli spazi aperti e di relazione",
   "parentLayerId": -1,
   "defaultVisibility": true,
   "subLayerIds": null,
   "minScale": 25010,
   "maxScale": 0
  },
  {
   "id": 10,
   "name": "Ambiti disciplinati dal Piano di Settore dei Nulcei Abitati",
   "parentLayerId": -1,
   "defaultVisibility": true,
   "subLayerIds": null,
   "minScale": 25010,
   "maxScale": 0
  },
  {
   "id": 11,
   "name": "_#Maschera",
   "parentLayerId": -1,
   "defaultVisibility": true,
   "subLayerIds": null,
   "minScale": 25010,
   "maxScale": 0
  }
 ],
 "tables": [],
 "spatialReference": {
  "wkid": 102100,
  "latestWkid": 3857
 },
 "singleFusedMapCache": true,
 "tileInfo": {
  "rows": 256,
  "cols": 256,
  "dpi": 96,
  "format": "PNG",
  "compressionQuality": 0,
  "origin": {
   "x": -2.0037508342787E7,
   "y": 2.0037508342787E7
  },
  "spatialReference": {
   "wkid": 102100,
   "latestWkid": 3857
  },
  "lods": [
   {
    "level": 0,
    "resolution": 156543.033928,
    "scale": 5.91657527591555E8
   },
   {
    "level": 1,
    "resolution": 78271.5169639999,
    "scale": 2.95828763795777E8
   },
   {
    "level": 2,
    "resolution": 39135.7584820001,
    "scale": 1.47914381897889E8
   },
   {
    "level": 3,
    "resolution": 19567.8792409999,
    "scale": 7.3957190948944E7
   },
   {
    "level": 4,
    "resolution": 9783.93962049996,
    "scale": 3.6978595474472E7
   },
   {
    "level": 5,
    "resolution": 4891.96981024998,
    "scale": 1.8489297737236E7
   },
   {
    "level": 6,
    "resolution": 2445.98490512499,
    "scale": 9244648.868618
   },
   {
    "level": 7,
    "resolution": 1222.99245256249,
    "scale": 4622324.434309
   },
   {
    "level": 8,
    "resolution": 611.49622628138,
    "scale": 2311162.217155
   },
   {
    "level": 9,
    "resolution": 305.748113140558,
    "scale": 1155581.108577
   },
   {
    "level": 10,
    "resolution": 152.874056570411,
    "scale": 577790.554289
   },
   {
    "level": 11,
    "resolution": 76.4370282850732,
    "scale": 288895.277144
   },
   {
    "level": 12,
    "resolution": 38.2185141425366,
    "scale": 144447.638572
   },
   {
    "level": 13,
    "resolution": 19.1092570712683,
    "scale": 72223.819286
   },
   {
    "level": 14,
    "resolution": 9.55462853563415,
    "scale": 36111.909643
   },
   {
    "level": 15,
    "resolution": 4.77731426794937,
    "scale": 18055.954822
   },
   {
    "level": 16,
    "resolution": 2.38865713397468,
    "scale": 9027.977411
   },
   {
    "level": 17,
    "resolution": 1.19432856685505,
    "scale": 4513.988705
   },
   {
    "level": 18,
    "resolution": 0.597164283559817,
    "scale": 2256.994353
   },
   {
    "level": 19,
    "resolution": 0.298582141647617,
    "scale": 1128.497176
   }
  ]
 },
 "initialExtent": {
  "xmin": 1074307.2432083501,
  "ymin": 5733953.62664349,
  "xmax": 1087509.057317691,
  "ymax": 5739791.423056003,
  "spatialReference": {
   "cs": "pcs",
   "wkid": 102100
  }
 },
 "fullExtent": {
  "xmin": 1078858.2319032955,
  "ymin": 5733987.012734085,
  "xmax": 1082958.0686227458,
  "ymax": 5739758.036965408,
  "spatialReference": {
   "cs": "pcs",
   "wkid": 102100
  }
 },
 "minScale": 1.8489297737236E7,
 "maxScale": 1128.497176,
 "units": "esriMeters",
 "supportedImageFormatTypes": "PNG32,PNG24,PNG,JPG,DIB,TIFF,EMF,PS,PDF,GIF,SVG,SVGZ,BMP",
 "documentInfo": {
  "Title": "",
  "Author": "",
  "Comments": "PGT di Ranica - Piano delle Regole - Disciplina dei nuclei di antica formazione",
  "Subject": "PGT di Ranica - Piano delle Regole - Disciplina dei nuclei di antica formazione",
  "Category": "",
  "AntialiasingMode": "None",
  "TextAntialiasingMode": "Force",
  "Keywords": "Attività produttive,Edilizia,Lavori pubblici e mobilità urbana,Tributi,Geoportale,Urbanistica e pianificazione,Vincolistica"
 },
 "capabilities": "Map,Query,Data",
 "supportedQueryFormats": "JSON, AMF, geoJSON",
 "exportTilesAllowed": false,
 "supportsDatumTransformation": true,
 "maxRecordCount": 1000,
 "maxImageHeight": 4096,
 "maxImageWidth": 4096,
 "supportedExtensions": ""
}
