View In:
ArcGIS JavaScript
ArcGIS Online map viewer
Google Earth
ArcMap
ArcGIS Explorer
View Footprint In:
ArcGIS Online map viewer
Service Description: Il Piano di governo del territorio individua i perimetri degli insediamenti e dei nuclei urbani che rivestono carattere storico, artistico o di particolare pregio ambientale, comprese le aree circostanti che possono considerarsi parte integrante dei medesimi.La tavola disciplina le azioni e gli interventi ammissibili secondo le indicazioni programmatiche del Piano delle Regole nei peculiari ambiti dei nuclei storici.
Map Name: PR 7 - Individuazione per classi di edifici
Legend
All Layers and Tables
Dynamic Legend
Dynamic All Layers
Layers:
Description:
Copyright Text:
Spatial Reference:
102100
(3857)
Single Fused Map Cache: true
Tile Info:
- Height: 256
- Width: 256
- DPI: 96
-
Levels of Detail: 20
-
Level ID: 1
[ Start Tile, End Tile ]
- Resolution: 78271.5169639999
- Scale: 2.95828763795777E8
-
Level ID: 2
[ Start Tile, End Tile ]
- Resolution: 39135.7584820001
- Scale: 1.47914381897889E8
-
Level ID: 3
[ Start Tile, End Tile ]
- Resolution: 19567.8792409999
- Scale: 7.3957190948944E7
-
Level ID: 4
[ Start Tile, End Tile ]
- Resolution: 9783.93962049996
- Scale: 3.6978595474472E7
-
Level ID: 5
[ Start Tile, End Tile ]
- Resolution: 4891.96981024998
- Scale: 1.8489297737236E7
- Format: PNG
- Compression Quality: 0.0
- Origin:
X: -2.0037508342787E7
Y: 2.0037508342787E7
- Spatial Reference:
102100
(3857)
Initial Extent:
XMin: 1116189.8026581318
YMin: 5662065.43151467
XMax: 1142748.7307759807
YMax: 5671511.075405954
Spatial Reference:
102100
Full Extent:
XMin: 1112537.1664153454
YMin: 5652975.816707519
XMax: 1146314.239434729
YMax: 5673745.071025655
Spatial Reference:
102100
Units: esriMeters
Supported Image Format Types: PNG32,PNG24,PNG,JPG,DIB,TIFF,EMF,PS,PDF,GIF,SVG,SVGZ,BMP
Document Info:
Title: PR 7 - Individuazione per classi di edifici
Author: Globo srl
Comments: PR 7 - Individuazione per classi di edifici
Subject: PR 7 - Individuazione per classi di edifici
Category:
Keywords: Attività produttive,Edilizia,Lavori pubblici e mobilità urbana,Tributi,Geoportale,Urbanistica e pianificazione,Vincolistica
AntialiasingMode: None
TextAntialiasingMode: Force
Supports Dynamic Layers: true
MaxRecordCount: 1000
MaxImageHeight: 4096
MaxImageWidth: 4096
Supported Query Formats: JSON, AMF, geoJSON
Min Scale: 9244648.868618
Max Scale: 1128.497176
Supports Datum Transformation: true
Child Resources:
Info
Dynamic Layer
Supported Operations:
Export Map
Identify
QueryDomains
Find
Return Updates